Package: MeasurementError.cor Version: 1.81.0 Command: rm -rf MeasurementError.cor.buildbin-libdir && mkdir MeasurementError.cor.buildbin-libdir && F:\biocbuild\bbs-3.22-bioc\R\bin\R.exe CMD INSTALL --build --library=MeasurementError.cor.buildbin-libdir MeasurementError.cor_1.81.0.tar.gz StartedAt: 2025-08-15 10:38:42 -0400 (Fri, 15 Aug 2025) EndedAt: 2025-08-15 10:39:13 -0400 (Fri, 15 Aug 2025) EllapsedTime: 30.4 seconds RetCode: 0 Status: OK PackageFile: MeasurementError.cor_1.81.0.zip PackageFileSize: 74.63 KiB