Package: MeasurementError.cor Version: 1.83.0 Command: /home/biocbuild/bbs-3.23-bioc/R/bin/R CMD INSTALL MeasurementError.cor StartedAt: 2025-11-07 15:03:07 -0500 (Fri, 07 Nov 2025) EndedAt: 2025-11-07 15:03:17 -0500 (Fri, 07 Nov 2025) EllapsedTime: 10.1 seconds RetCode: 0 Status: OK