Package: MeSHDbi Version: 1.47.0 Command: /home/biocbuild/bbs-3.23-bioc/R/bin/R CMD INSTALL MeSHDbi StartedAt: 2025-11-04 15:28:56 -0500 (Tue, 04 Nov 2025) EndedAt: 2025-11-04 15:29:08 -0500 (Tue, 04 Nov 2025) EllapsedTime: 12.1 seconds RetCode: 0 Status: OK