Package: MeSHDbi Version: 1.45.0 Command: /Library/Frameworks/R.framework/Resources/bin/R CMD INSTALL MeSHDbi StartedAt: 2025-10-10 15:32:18 -0400 (Fri, 10 Oct 2025) EndedAt: 2025-10-10 15:32:35 -0400 (Fri, 10 Oct 2025) EllapsedTime: 17.1 seconds RetCode: 0 Status: OK