Package: MeSHDbi Version: 1.45.0 Command: /Library/Frameworks/R.framework/Resources/bin/R CMD build --keep-empty-dirs --no-resave-data MeSHDbi StartedAt: 2025-10-12 17:50:04 -0400 (Sun, 12 Oct 2025) EndedAt: 2025-10-12 17:50:32 -0400 (Sun, 12 Oct 2025) EllapsedTime: 28.7 seconds RetCode: 0 Status: OK PackageFile: MeSHDbi_1.45.0.tar.gz PackageFileSize: 120 KiB