Package: MatrixRider Version: 1.43.0 Command: /home/biocbuild/bbs-3.23-bioc/R/bin/R CMD INSTALL MatrixRider StartedAt: 2025-11-05 15:58:01 -0500 (Wed, 05 Nov 2025) EndedAt: 2025-11-05 15:58:39 -0500 (Wed, 05 Nov 2025) EllapsedTime: 37.6 seconds RetCode: 0 Status: OK