Package: MatrixRider Version: 1.43.0 Command: /home/biocbuild/bbs-3.23-bioc/R/bin/R CMD build --keep-empty-dirs --no-resave-data MatrixRider StartedAt: 2025-11-05 18:29:14 -0500 (Wed, 05 Nov 2025) EndedAt: 2025-11-05 18:30:06 -0500 (Wed, 05 Nov 2025) EllapsedTime: 52.0 seconds RetCode: 0 Status: OK PackageFile: MatrixRider_1.43.0.tar.gz PackageFileSize: 264.1 KiB