Package: MatrixRider Version: 1.41.0 Command: /Library/Frameworks/R.framework/Resources/bin/R CMD build --keep-empty-dirs --no-resave-data MatrixRider StartedAt: 2025-10-12 17:47:43 -0400 (Sun, 12 Oct 2025) EndedAt: 2025-10-12 17:49:06 -0400 (Sun, 12 Oct 2025) EllapsedTime: 83.0 seconds RetCode: 0 Status: OK PackageFile: MatrixRider_1.41.0.tar.gz PackageFileSize: 263.4 KiB