Package: MatrixRider Version: 1.41.0 Command: rm -rf MatrixRider.buildbin-libdir && mkdir MatrixRider.buildbin-libdir && /Users/biocbuild/BBS/utils/build-universal.sh MatrixRider_1.41.0.tar.gz /Library/Frameworks/R.framework/Resources/bin/R MatrixRider.buildbin-libdir StartedAt: 2025-10-13 02:40:49 -0400 (Mon, 13 Oct 2025) EndedAt: 2025-10-13 02:41:49 -0400 (Mon, 13 Oct 2025) EllapsedTime: 59.5 seconds RetCode: 0 Status: OK PackageFile: MatrixRider_1.41.0.tgz PackageFileSize: 284.3 KiB