Package: MatrixRider Version: 1.43.0 Maintainer: Elena Grassi MaintainerEmail: grassi.e at gmail.com git_url: https://git.bioconductor.org/packages/MatrixRider git_branch: devel git_last_commit: c9dff82 git_last_commit_date: 2025-10-29 10:24:34 -0400 (Wed, 29 Oct 2025)