Package: MatrixQCvis Version: 1.19.0 Command: /home/biocbuild/bbs-3.23-bioc/R/bin/R CMD INSTALL MatrixQCvis StartedAt: 2025-11-23 15:37:43 -0500 (Sun, 23 Nov 2025) EndedAt: 2025-11-23 15:38:24 -0500 (Sun, 23 Nov 2025) EllapsedTime: 41.1 seconds RetCode: 0 Status: OK