Package: MatrixQCvis Version: 1.19.0 Command: /home/biocbuild/bbs-3.23-bioc/R/bin/R CMD build --keep-empty-dirs --no-resave-data MatrixQCvis StartedAt: 2025-11-23 18:28:10 -0500 (Sun, 23 Nov 2025) EndedAt: 2025-11-23 18:30:50 -0500 (Sun, 23 Nov 2025) EllapsedTime: 160.1 seconds RetCode: 0 Status: OK PackageFile: MatrixQCvis_1.19.0.tar.gz PackageFileSize: 4.781 MiB