Package: MatrixQCvis Version: 1.17.1 Command: /Library/Frameworks/R.framework/Resources/bin/R CMD INSTALL MatrixQCvis StartedAt: 2025-09-30 15:31:57 -0400 (Tue, 30 Sep 2025) EndedAt: 2025-09-30 15:32:53 -0400 (Tue, 30 Sep 2025) EllapsedTime: 56.3 seconds RetCode: 0 Status: OK