Package: MatrixQCvis Version: 1.17.1 Command: /Library/Frameworks/R.framework/Resources/bin/R CMD build --keep-empty-dirs --no-resave-data MatrixQCvis StartedAt: 2025-09-29 17:35:04 -0400 (Mon, 29 Sep 2025) EndedAt: 2025-09-29 17:38:47 -0400 (Mon, 29 Sep 2025) EllapsedTime: 223.0 seconds RetCode: 0 Status: OK PackageFile: MatrixQCvis_1.17.1.tar.gz PackageFileSize: 4.867 MiB