Package: MatrixQCvis Version: 1.17.1 Command: rm -rf MatrixQCvis.buildbin-libdir && mkdir MatrixQCvis.buildbin-libdir && /Users/biocbuild/BBS/utils/build-universal.sh MatrixQCvis_1.17.1.tar.gz /Library/Frameworks/R.framework/Resources/bin/R MatrixQCvis.buildbin-libdir StartedAt: 2025-09-30 01:51:04 -0400 (Tue, 30 Sep 2025) EndedAt: 2025-09-30 01:52:08 -0400 (Tue, 30 Sep 2025) EllapsedTime: 64.4 seconds RetCode: 0 Status: OK PackageFile: MatrixQCvis_1.17.1.tgz PackageFileSize: 5.118 MiB