Package: MatrixQCvis Version: 1.17.1 Maintainer: Thomas Naake MaintainerEmail: thomasnaake at googlemail.com git_url: https://git.bioconductor.org/packages/MatrixQCvis git_branch: devel git_last_commit: 8b7cfd0 git_last_commit_date: 2025-06-26 10:36:40 -0400 (Thu, 26 Jun 2025)