Package: MatrixGenerics Version: 1.23.0 Command: /home/biocbuild/bbs-3.23-bioc/R/bin/R CMD check --install=check:MatrixGenerics.install-out.txt --library=/home/biocbuild/bbs-3.23-bioc/R/site-library --timings MatrixGenerics_1.23.0.tar.gz StartedAt: 2025-11-06 00:58:43 -0500 (Thu, 06 Nov 2025) EndedAt: 2025-11-06 00:59:09 -0500 (Thu, 06 Nov 2025) EllapsedTime: 26.1 seconds RetCode: 0 Status: OK CheckDir: MatrixGenerics.Rcheck Warnings: 0