Package: MassSpecWavelet Version: 1.77.0 Command: /home/biocbuild/bbs-3.23-bioc/R/bin/R CMD INSTALL MassSpecWavelet StartedAt: 2025-11-20 15:01:29 -0500 (Thu, 20 Nov 2025) EndedAt: 2025-11-20 15:01:43 -0500 (Thu, 20 Nov 2025) EllapsedTime: 13.7 seconds RetCode: 0 Status: OK