Package: MassSpecWavelet Version: 1.77.0 Command: /home/biocbuild/bbs-3.23-bioc/R/bin/R CMD check --install=check:MassSpecWavelet.install-out.txt --library=/home/biocbuild/bbs-3.23-bioc/R/site-library --timings MassSpecWavelet_1.77.0.tar.gz StartedAt: 2025-11-21 01:02:59 -0500 (Fri, 21 Nov 2025) EndedAt: 2025-11-21 01:04:06 -0500 (Fri, 21 Nov 2025) EllapsedTime: 67.1 seconds RetCode: 0 Status: OK CheckDir: MassSpecWavelet.Rcheck Warnings: 0