Package: MassSpecWavelet Version: 1.77.0 Command: /home/biocbuild/bbs-3.23-bioc/R/bin/R CMD build --keep-empty-dirs --no-resave-data MassSpecWavelet StartedAt: 2025-11-20 18:27:00 -0500 (Thu, 20 Nov 2025) EndedAt: 2025-11-20 18:27:45 -0500 (Thu, 20 Nov 2025) EllapsedTime: 45.0 seconds RetCode: 0 Status: OK PackageFile: MassSpecWavelet_1.77.0.tar.gz PackageFileSize: 2.171 MiB