Package: MassArray Version: 1.61.0 Command: /home/biocbuild/R/R/bin/R CMD INSTALL MassArray StartedAt: 2025-09-29 20:29:35 -0000 (Mon, 29 Sep 2025) EndedAt: 2025-09-29 20:29:45 -0000 (Mon, 29 Sep 2025) EllapsedTime: 10.2 seconds RetCode: 0 Status: OK