Package: MassArray Version: 1.61.0 Command: /home/biocbuild/R/R/bin/R CMD build --keep-empty-dirs --no-resave-data MassArray StartedAt: 2025-09-30 01:04:36 -0000 (Tue, 30 Sep 2025) EndedAt: 2025-09-30 01:05:08 -0000 (Tue, 30 Sep 2025) EllapsedTime: 32.0 seconds RetCode: 0 Status: OK PackageFile: MassArray_1.61.0.tar.gz PackageFileSize: 369.2 KiB