Package: MassArray Version: 1.61.0 Command: chmod a+r MassArray -R && F:\biocbuild\bbs-3.22-bioc\R\bin\R.exe CMD build --keep-empty-dirs --no-resave-data MassArray StartedAt: 2025-08-14 21:13:55 -0400 (Thu, 14 Aug 2025) EndedAt: 2025-08-14 21:14:41 -0400 (Thu, 14 Aug 2025) EllapsedTime: 45.7 seconds RetCode: 0 Status: OK PackageFile: MassArray_1.61.0.tar.gz PackageFileSize: 275.8 KiB