Package: MassArray Version: 1.63.0 Command: /home/biocbuild/bbs-3.23-bioc/R/bin/R CMD INSTALL MassArray StartedAt: 2025-10-31 15:10:27 -0400 (Fri, 31 Oct 2025) EndedAt: 2025-10-31 15:10:34 -0400 (Fri, 31 Oct 2025) EllapsedTime: 7.2 seconds RetCode: 0 Status: OK