Package: MassArray Version: 1.63.0 Command: /home/biocbuild/bbs-3.23-bioc/R/bin/R CMD build --keep-empty-dirs --no-resave-data MassArray StartedAt: 2025-10-31 18:36:01 -0400 (Fri, 31 Oct 2025) EndedAt: 2025-10-31 18:36:24 -0400 (Fri, 31 Oct 2025) EllapsedTime: 23.0 seconds RetCode: 0 Status: OK PackageFile: MassArray_1.63.0.tar.gz PackageFileSize: 375.3 KiB