Package: MantelCorr Version: 1.81.0 Command: /home/biocbuild/bbs-3.23-bioc/R/bin/R CMD build --keep-empty-dirs --no-resave-data MantelCorr StartedAt: 2025-11-07 18:21:08 -0500 (Fri, 07 Nov 2025) EndedAt: 2025-11-07 18:21:18 -0500 (Fri, 07 Nov 2025) EllapsedTime: 10.0 seconds RetCode: 0 Status: OK PackageFile: MantelCorr_1.81.0.tar.gz PackageFileSize: 937.7 KiB