Package: MantelCorr Version: 1.79.0 Command: /Library/Frameworks/R.framework/Resources/bin/R CMD INSTALL MantelCorr StartedAt: 2025-10-12 15:05:23 -0400 (Sun, 12 Oct 2025) EndedAt: 2025-10-12 15:05:38 -0400 (Sun, 12 Oct 2025) EllapsedTime: 14.7 seconds RetCode: 0 Status: OK