Package: MantelCorr Version: 1.79.0 Command: /Library/Frameworks/R.framework/Resources/bin/R CMD build --keep-empty-dirs --no-resave-data MantelCorr StartedAt: 2025-10-12 17:46:20 -0400 (Sun, 12 Oct 2025) EndedAt: 2025-10-12 17:46:40 -0400 (Sun, 12 Oct 2025) EllapsedTime: 19.6 seconds RetCode: 0 Status: OK PackageFile: MantelCorr_1.79.0.tar.gz PackageFileSize: 937 KiB