Package: Macarron Version: 1.13.2 Command: /home/biocbuild/R/R/bin/R CMD INSTALL Macarron StartedAt: 2025-10-23 21:08:24 -0000 (Thu, 23 Oct 2025) EndedAt: 2025-10-23 21:08:50 -0000 (Thu, 23 Oct 2025) EllapsedTime: 26.5 seconds RetCode: 0 Status: OK