Package: Macarron Version: 1.13.2 Command: /home/biocbuild/R/R/bin/R CMD build --keep-empty-dirs --no-resave-data Macarron StartedAt: 2025-10-21 00:51:13 -0000 (Tue, 21 Oct 2025) EndedAt: 2025-10-21 01:00:22 -0000 (Tue, 21 Oct 2025) EllapsedTime: 549.2 seconds RetCode: 1 Status: ERROR PackageFile: None PackageFileSize: NA