Package: Macarron Version: 1.15.0 Command: /home/biocbuild/bbs-3.23-bioc/R/bin/R CMD build --keep-empty-dirs --no-resave-data Macarron StartedAt: 2025-11-05 18:25:23 -0500 (Wed, 05 Nov 2025) EndedAt: 2025-11-05 18:31:29 -0500 (Wed, 05 Nov 2025) EllapsedTime: 366.3 seconds RetCode: 1 Status: ERROR PackageFile: None PackageFileSize: NA