Package: Macarron Version: 1.13.2 Command: /Library/Frameworks/R.framework/Resources/bin/R CMD INSTALL Macarron StartedAt: 2025-10-10 15:44:13 -0400 (Fri, 10 Oct 2025) EndedAt: 2025-10-10 15:44:42 -0400 (Fri, 10 Oct 2025) EllapsedTime: 29.1 seconds RetCode: 0 Status: OK