Package: Macarron Version: 1.13.2 Command: /Library/Frameworks/R.framework/Resources/bin/R CMD build --keep-empty-dirs --no-resave-data Macarron StartedAt: 2025-10-10 17:48:22 -0400 (Fri, 10 Oct 2025) EndedAt: 2025-10-10 17:55:44 -0400 (Fri, 10 Oct 2025) EllapsedTime: 442.1 seconds RetCode: 1 Status: ERROR PackageFile: None PackageFileSize: NA