Package: Macarron Version: 1.13.2 Command: rm -rf Macarron.buildbin-libdir && mkdir Macarron.buildbin-libdir && /Users/biocbuild/BBS/utils/build-universal.sh Macarron_1.13.2.tar.gz /Library/Frameworks/R.framework/Resources/bin/R Macarron.buildbin-libdir StartedAt: 2025-09-11 02:17:34 -0400 (Thu, 11 Sep 2025) EndedAt: 2025-09-11 02:18:06 -0400 (Thu, 11 Sep 2025) EllapsedTime: 31.5 seconds RetCode: 0 Status: OK PackageFile: Macarron_1.13.2.tgz PackageFileSize: 653.9 KiB