Package: Maaslin2 Version: 1.25.0 Command: /home/biocbuild/bbs-3.23-bioc/R/bin/R CMD INSTALL Maaslin2 StartedAt: 2025-11-21 15:14:32 -0500 (Fri, 21 Nov 2025) EndedAt: 2025-11-21 15:14:41 -0500 (Fri, 21 Nov 2025) EllapsedTime: 8.7 seconds RetCode: 0 Status: OK