Package: Maaslin2 Version: 1.25.0 Command: /Library/Frameworks/R.framework/Resources/bin/R CMD build --keep-empty-dirs --no-resave-data Maaslin2 StartedAt: 2025-11-20 17:33:08 -0500 (Thu, 20 Nov 2025) EndedAt: 2025-11-20 17:35:11 -0500 (Thu, 20 Nov 2025) EllapsedTime: 122.9 seconds RetCode: 1 Status: ERROR PackageFile: None PackageFileSize: NA