Package: Maaslin2 Version: 1.23.0 Command: /Library/Frameworks/R.framework/Resources/bin/R CMD INSTALL Maaslin2 StartedAt: 2025-10-24 15:10:36 -0400 (Fri, 24 Oct 2025) EndedAt: 2025-10-24 15:10:39 -0400 (Fri, 24 Oct 2025) EllapsedTime: 3.3 seconds RetCode: 0 Status: OK