Package: MWASTools Version: 1.33.0 Command: /home/biocbuild/R/R/bin/R CMD INSTALL MWASTools StartedAt: 2025-10-20 20:38:46 -0000 (Mon, 20 Oct 2025) EndedAt: 2025-10-20 20:39:29 -0000 (Mon, 20 Oct 2025) EllapsedTime: 42.9 seconds RetCode: 0 Status: OK