Package: MWASTools Version: 1.33.0 Command: /home/biocbuild/R/R/bin/R CMD build --keep-empty-dirs --no-resave-data MWASTools StartedAt: 2025-10-21 01:38:57 -0000 (Tue, 21 Oct 2025) EndedAt: 2025-10-21 01:40:22 -0000 (Tue, 21 Oct 2025) EllapsedTime: 85.0 seconds RetCode: 0 Status: OK PackageFile: MWASTools_1.33.0.tar.gz PackageFileSize: 1.704 MiB