Package: MWASTools Version: 1.35.0 Command: /home/biocbuild/bbs-3.23-bioc/R/bin/R CMD check --install=check:MWASTools.install-out.txt --library=/home/biocbuild/bbs-3.23-bioc/R/site-library --timings MWASTools_1.35.0.tar.gz StartedAt: 2025-11-24 01:54:36 -0500 (Mon, 24 Nov 2025) EndedAt: 2025-11-24 01:59:16 -0500 (Mon, 24 Nov 2025) EllapsedTime: 279.6 seconds RetCode: 0 Status: OK CheckDir: MWASTools.Rcheck Warnings: 0