Package: MWASTools Version: 1.35.0 Command: /home/biocbuild/bbs-3.23-bioc/R/bin/R CMD build --keep-empty-dirs --no-resave-data MWASTools StartedAt: 2025-11-05 18:58:50 -0500 (Wed, 05 Nov 2025) EndedAt: 2025-11-05 18:59:58 -0500 (Wed, 05 Nov 2025) EllapsedTime: 68.0 seconds RetCode: 0 Status: OK PackageFile: MWASTools_1.35.0.tar.gz PackageFileSize: 2.651 MiB