Package: MWASTools Version: 1.33.0 Command: /Library/Frameworks/R.framework/Resources/bin/R CMD INSTALL MWASTools StartedAt: 2025-09-29 15:22:57 -0400 (Mon, 29 Sep 2025) EndedAt: 2025-09-29 15:23:41 -0400 (Mon, 29 Sep 2025) EllapsedTime: 44.1 seconds RetCode: 0 Status: OK