Package: MWASTools Version: 1.33.0 Command: /Library/Frameworks/R.framework/Resources/bin/R CMD build --keep-empty-dirs --no-resave-data MWASTools StartedAt: 2025-09-29 17:59:28 -0400 (Mon, 29 Sep 2025) EndedAt: 2025-09-29 18:00:54 -0400 (Mon, 29 Sep 2025) EllapsedTime: 85.8 seconds RetCode: 0 Status: OK PackageFile: MWASTools_1.33.0.tar.gz PackageFileSize: 2.106 MiB