Package: MSstatsTMT Version: 2.19.0 Command: /home/biocbuild/bbs-3.23-bioc/R/bin/R CMD INSTALL MSstatsTMT StartedAt: 2025-11-20 15:11:55 -0500 (Thu, 20 Nov 2025) EndedAt: 2025-11-20 15:12:08 -0500 (Thu, 20 Nov 2025) EllapsedTime: 13.1 seconds RetCode: 0 Status: OK