Package: MSstatsTMT Version: 2.17.0 Command: /Library/Frameworks/R.framework/Resources/bin/R CMD INSTALL MSstatsTMT StartedAt: 2025-10-08 15:18:29 -0400 (Wed, 08 Oct 2025) EndedAt: 2025-10-08 15:18:52 -0400 (Wed, 08 Oct 2025) EllapsedTime: 23.5 seconds RetCode: 0 Status: OK