Package: MSstatsTMT Version: 2.17.0 Command: /Library/Frameworks/R.framework/Resources/bin/R CMD build --keep-empty-dirs --no-resave-data MSstatsTMT StartedAt: 2025-10-08 18:17:07 -0400 (Wed, 08 Oct 2025) EndedAt: 2025-10-08 18:18:32 -0400 (Wed, 08 Oct 2025) EllapsedTime: 85.5 seconds RetCode: 0 Status: OK PackageFile: MSstatsTMT_2.17.0.tar.gz PackageFileSize: 1.531 MiB