Package: MSstatsTMT Version: 2.17.0 Command: rm -rf MSstatsTMT.buildbin-libdir && mkdir MSstatsTMT.buildbin-libdir && /Users/biocbuild/BBS/utils/build-universal.sh MSstatsTMT_2.17.0.tar.gz /Library/Frameworks/R.framework/Resources/bin/R MSstatsTMT.buildbin-libdir StartedAt: 2025-10-09 02:43:52 -0400 (Thu, 09 Oct 2025) EndedAt: 2025-10-09 02:44:14 -0400 (Thu, 09 Oct 2025) EllapsedTime: 22.1 seconds RetCode: 0 Status: OK PackageFile: MSstatsTMT_2.17.0.tgz PackageFileSize: 1.906 MiB