Package: MSstatsShiny Version: 1.11.6 Command: /home/biocbuild/R/R/bin/R CMD INSTALL MSstatsShiny StartedAt: 2025-10-20 20:41:32 -0000 (Mon, 20 Oct 2025) EndedAt: 2025-10-20 20:42:14 -0000 (Mon, 20 Oct 2025) EllapsedTime: 42.5 seconds RetCode: 0 Status: OK