Package: MSstatsShiny Version: 1.11.6 Command: /home/biocbuild/R/R/bin/R CMD build --keep-empty-dirs --no-resave-data MSstatsShiny StartedAt: 2025-10-21 01:35:59 -0000 (Tue, 21 Oct 2025) EndedAt: 2025-10-21 01:36:57 -0000 (Tue, 21 Oct 2025) EllapsedTime: 58.0 seconds RetCode: 0 Status: OK PackageFile: MSstatsShiny_1.11.6.tar.gz PackageFileSize: 3.524 MiB