Package: MSstatsShiny Version: 1.11.5 Command: /home/biocbuild/bbs-3.22-bioc/R/bin/R CMD check --install=check:MSstatsShiny.install-out.txt --library=/home/biocbuild/bbs-3.22-bioc/R/site-library --timings MSstatsShiny_1.11.5.tar.gz StartedAt: 2025-10-17 03:27:57 -0400 (Fri, 17 Oct 2025) EndedAt: 2025-10-17 03:32:09 -0400 (Fri, 17 Oct 2025) EllapsedTime: 252.2 seconds RetCode: 0 Status: WARNINGS CheckDir: MSstatsShiny.Rcheck Warnings: 1